BEGIN:VCALENDAR
VERSION:2.0
PRODID:https://www.spraitbach.de/index.html
CALSCALE:GREGORIAN
BEGIN:VEVENT
DTSTART:20260612T090000
DTEND:20260612T235959
LOCATION:Bürgersaal, Kirchplatz 1, 73565 Spraitbach
DTSTAMP:20260422T090207
SUMMARY:Unternehmerfrühstück
URL;VALUE=URI:https://www.spraitbach.de/termindetails/unternehmerfruehstueck.html
DESCRIPTION:
UID:20260422T090207-20260612T090000-20260612T235959
END:VEVENT
END:VCALENDAR